BEGIN:VCALENDAR
VERSION:2.0
PRODID:-//www.gptn.org//NONSGML kigkonsult.se iCalcreator 2.30.10//
CALSCALE:GREGORIAN
METHOD:PUBLISH
UID:7a93a69f-2004-4d97-8ae4-ab95307cf68b
X-WR-CALDESC:Welcome to Trail Trek 2019. Trail Trek 2019 is Sunday\, June 2
 3. All routes will leave from Haymarket Park. Registrations are non-refund
 able. Remember all riders must wear a helmet. If you would like to mail in
  your registration please go to the Trail Trek menu at the top of this pag
 e and select Welcome Trail Trek.
X-WR-RELCALID:a434e468fe2c924e11270572ae6d316d
X-WR-TIMEZONE:America/Chicago
BEGIN:VTIMEZONE
TZID:America/Chicago
BEGIN:STANDARD
TZNAME:CST
DTSTART:20181104T020000
TZOFFSETFROM:-0500
TZOFFSETTO:-0600
RDATE:20191103T020000
RDATE:20201101T020000
END:STANDARD
BEGIN:DAYLIGHT
TZNAME:CDT
DTSTART:20190310T020000
TZOFFSETFROM:-0600
TZOFFSETTO:-0500
RDATE:20200308T020000
END:DAYLIGHT
END:VTIMEZONE
BEGIN:VEVENT
UID:6d08f42b-2505-4f45-9d5f-c05c465ae690
DTSTAMP:20260421T081243Z
DESCRIPTION:Welcome to Trail Trek 2019. Trail Trek 2019 is Sunday\, June 23
 . All routes will leave from Haymarket Park. Registrations are non-refunda
 ble. Remember all riders must wear a helmet. If you would like to mail in 
 your registration please go to the Trail Trek menu at the top of this page
  and select Welcome Trail Trek.
DTSTART;TZID=America/Chicago:20190623T130000
DTEND;TZID=America/Chicago:20190623T190000
LOCATION:
SUMMARY:Trail Trek 2019
END:VEVENT
END:VCALENDAR
