BEGIN:VCALENDAR
VERSION:2.0
PRODID:-//www.gptn.org//NONSGML kigkonsult.se iCalcreator 2.30.10//
CALSCALE:GREGORIAN
METHOD:PUBLISH
UID:64a9b4c3-3f96-4f88-837a-5f39340f86c1
X-WR-CALDESC:Hub & Soul is a free community event designed for people of al
 l ages and backgrounds to celebrate local musicians\, local food\, and Lin
 coln's parks. The series will be held six consecutive Thursdays from 5-8 p
 .m. beginning August 15 and ending August 22 at the three-block Union Plaz
 a\, home to the Jayne Snyder Trails Center and the hub of Lincoln's 134-mi
 le trails network.
X-WR-RELCALID:839cd34825d11b940044227bd0784b5d
X-WR-TIMEZONE:America/Chicago
BEGIN:VTIMEZONE
TZID:America/Chicago
BEGIN:STANDARD
TZNAME:CST
DTSTART:20181104T020000
TZOFFSETFROM:-0500
TZOFFSETTO:-0600
RDATE:20191103T020000
RDATE:20201101T020000
END:STANDARD
BEGIN:DAYLIGHT
TZNAME:CDT
DTSTART:20190310T020000
TZOFFSETFROM:-0600
TZOFFSETTO:-0500
RDATE:20200308T020000
END:DAYLIGHT
END:VTIMEZONE
BEGIN:VEVENT
UID:ccfa8810-c3ce-4892-abca-034dd0a6b7b2
DTSTAMP:20260425T022738Z
DESCRIPTION:Hub & Soul is a free community event designed for people of all
  ages and backgrounds to celebrate local musicians\, local food\, and Linc
 oln's parks. The series will be held six consecutive Thursdays from 5-8 p.
 m. beginning August 15 and ending August 22 at the three-block Union Plaza
 \, home to the Jayne Snyder Trails Center and the hub of Lincoln's 134-mil
 e trails network.
DTSTART;TZID=America/Chicago:20190905T170000
DTEND;TZID=America/Chicago:20190905T200000
LOCATION:21st & Q Streets
SUMMARY:Hub & Soul
END:VEVENT
END:VCALENDAR
