BEGIN:VCALENDAR
VERSION:2.0
PRODID:-//www.gptn.org//NONSGML kigkonsult.se iCalcreator 2.30.10//
CALSCALE:GREGORIAN
METHOD:PUBLISH
UID:771845c9-fe67-4532-a56c-224447fb517e
X-WR-CALDESC:New options at Trail Trek 2020 - all adult t-shirts will be a 
 super-soft cotton blend from Next Level apparel. We will have a new menu w
 hich will include mac & cheese as well as an Alfredo vegetable medley for 
 our vegetarian riders. Not to worry kids we will still have PB&J sandwiche
 s too. We are working on a fun interactive event for the whole family when
  all riders return to Haymarket Park - watch for more information coming i
 n March. Early bird registration ends September 6 - prices go up $10.\n\nH
 elmets are required and registrations are non-refundable. Registrations ar
 e accepted through the mail. Click on Welcome to Trail Trek to print off a
  paper registration.
X-WR-RELCALID:1a7ee41e3d7d2a6b965ff52d023df1ca
X-WR-TIMEZONE:America/Chicago
BEGIN:VTIMEZONE
TZID:America/Chicago
BEGIN:STANDARD
TZNAME:CST
DTSTART:20191103T020000
TZOFFSETFROM:-0500
TZOFFSETTO:-0600
RDATE:20201101T020000
RDATE:20211107T020000
END:STANDARD
BEGIN:DAYLIGHT
TZNAME:CDT
DTSTART:20200308T020000
TZOFFSETFROM:-0600
TZOFFSETTO:-0500
RDATE:20210314T020000
RDATE:20220313T020000
END:DAYLIGHT
END:VTIMEZONE
BEGIN:VEVENT
UID:073d0856-52d1-4663-9757-5fdb3fde3e3e
DTSTAMP:20260423T100616Z
DESCRIPTION:New options at Trail Trek 2020 - all adult t-shirts will be a s
 uper-soft cotton blend from Next Level apparel. We will have a new menu wh
 ich will include mac & cheese as well as an Alfredo vegetable medley for o
 ur vegetarian riders. Not to worry kids we will still have PB&J sandwiches
  too. We are working on a fun interactive event for the whole family when 
 all riders return to Haymarket Park - watch for more information coming in
  March. Early bird registration ends September 6 - prices go up $10.\n\nHe
 lmets are required and registrations are non-refundable. Registrations are
  accepted through the mail. Click on Welcome to Trail Trek to print off a 
 paper registration.
DTSTART;TZID=America/Chicago:20200913T000000
DTEND;TZID=America/Chicago:20200913T235900
LOCATION:
SUMMARY:2020 Trail Trek - CANCELLED
END:VEVENT
END:VCALENDAR
