BEGIN:VCALENDAR
VERSION:2.0
PRODID:-//www.gptn.org//NONSGML kigkonsult.se iCalcreator 2.30.10//
CALSCALE:GREGORIAN
METHOD:PUBLISH
UID:a3f1fb58-9704-47ec-a79a-c7c5929167ac
X-WR-CALDESC:Lincoln Trail-A-Thon is back for 2021. This event was designed
  to keep Lincoln moving and healthy while enjoying the trails. As a bonus 
 a large portion of the entry fee for this event will go to the Great Plain
 s Trails Network to help build the trails in Lincoln. \n\nLincoln Trail-A-
 Thon is a year-long challenge to encourage participants to ride\, run or w
 alk all 78 miles of trails within the city limits of Lincoln. To help with
  your progress we have developed monthly suggestions to cover the trails. 
 See link below.\n\nAs you complete each monthly trail route\, you will rec
 eive a button marking the accomplishment. To communicate your completion o
 f the monthly route you'll need to complete a Google Collection Form\, whi
 ch will be provide to each entry. (buttons will be distributed at the Linc
 oln Running Company)\n\nThank you to our sponsors: Lincoln Running Company
 \, Great Plains Trails Network\, and the University of Nebraska Federal Cr
 edit Union.
X-WR-RELCALID:831479cbdcb6f38eccee7f2cae4e3df0
X-WR-TIMEZONE:America/Chicago
BEGIN:VTIMEZONE
TZID:America/Chicago
BEGIN:STANDARD
TZNAME:CST
DTSTART:20211107T020000
TZOFFSETFROM:-0500
TZOFFSETTO:-0600
RDATE:20221106T020000
END:STANDARD
BEGIN:DAYLIGHT
TZNAME:CDT
DTSTART:20210314T020000
TZOFFSETFROM:-0600
TZOFFSETTO:-0500
RDATE:20220313T020000
RDATE:20230312T020000
END:DAYLIGHT
END:VTIMEZONE
BEGIN:VEVENT
UID:55da373b-3377-4277-925a-0ce253fad2db
DTSTAMP:20260420T150234Z
DESCRIPTION:Lincoln Trail-A-Thon is back for 2021. This event was designed 
 to keep Lincoln moving and healthy while enjoying the trails. As a bonus a
  large portion of the entry fee for this event will go to the Great Plains
  Trails Network to help build the trails in Lincoln. \n\nLincoln Trail-A-T
 hon is a year-long challenge to encourage participants to ride\, run or wa
 lk all 78 miles of trails within the city limits of Lincoln. To help with 
 your progress we have developed monthly suggestions to cover the trails. S
 ee link below.\n\nAs you complete each monthly trail route\, you will rece
 ive a button marking the accomplishment. To communicate your completion of
  the monthly route you'll need to complete a Google Collection Form\, whic
 h will be provide to each entry. (buttons will be distributed at the Linco
 ln Running Company)\n\nThank you to our sponsors: Lincoln Running Company\
 , Great Plains Trails Network\, and the University of Nebraska Federal Cre
 dit Union.
DTSTART;TZID=America/Chicago:20211231T000000
DTEND;TZID=America/Chicago:20211231T235900
LOCATION:
SUMMARY:Lincoln Trail-A-Thon
END:VEVENT
END:VCALENDAR
