BEGIN:VCALENDAR
VERSION:2.0
PRODID:-//www.gptn.org//NONSGML kigkonsult.se iCalcreator 2.30.10//
CALSCALE:GREGORIAN
METHOD:PUBLISH
UID:f21a24a0-b8dd-4659-9c67-7f51cbb98122
X-WR-CALDESC:
X-WR-RELCALID:d3d38482de09911470151c34f2a28875
X-WR-TIMEZONE:America/Chicago
BEGIN:VTIMEZONE
TZID:America/Chicago
BEGIN:STANDARD
TZNAME:CST
DTSTART:20211107T020000
TZOFFSETFROM:-0500
TZOFFSETTO:-0600
RDATE:20221106T020000
END:STANDARD
BEGIN:DAYLIGHT
TZNAME:CDT
DTSTART:20210314T020000
TZOFFSETFROM:-0600
TZOFFSETTO:-0500
RDATE:20220313T020000
RDATE:20230312T020000
END:DAYLIGHT
END:VTIMEZONE
BEGIN:VEVENT
UID:18f9dfad-714d-47dc-90bc-91910c278e8b
DTSTAMP:20260420T182458Z
DESCRIPTION:
DTSTART;TZID=America/Chicago:20220219T130000
DTEND;TZID=America/Chicago:20220219T150000
LOCATION:Cornhusker Bank
SUMMARY:GPTN ANNUAL MEETING
END:VEVENT
END:VCALENDAR
