BEGIN:VCALENDAR
VERSION:2.0
PRODID:-//www.gptn.org//NONSGML kigkonsult.se iCalcreator 2.30.10//
CALSCALE:GREGORIAN
METHOD:PUBLISH
UID:7af8b200-cc1c-4542-942f-c1ac72c6065d
X-WR-CALDESC:
X-WR-RELCALID:15d52bfba0661b1bc9e1852e7205b28a
X-WR-TIMEZONE:America/Chicago
BEGIN:VTIMEZONE
TZID:America/Chicago
BEGIN:STANDARD
TZNAME:CST
DTSTART:20211107T020000
TZOFFSETFROM:-0500
TZOFFSETTO:-0600
RDATE:20221106T020000
RDATE:20231105T020000
END:STANDARD
BEGIN:DAYLIGHT
TZNAME:CDT
DTSTART:20220313T020000
TZOFFSETFROM:-0600
TZOFFSETTO:-0500
RDATE:20230312T020000
END:DAYLIGHT
END:VTIMEZONE
BEGIN:VEVENT
UID:8ec4d0dc-df93-4d94-9373-f8805e3bdfd6
DTSTAMP:20260420T144859Z
DESCRIPTION:
DTSTART;TZID=America/Chicago:20220512T000000
DTEND;TZID=America/Chicago:20220512T235900
LOCATION:https://www.gptn.org/news_publications/tour-de-lincoln.html
SUMMARY:Tour de Lincoln
END:VEVENT
END:VCALENDAR
