BEGIN:VCALENDAR
VERSION:2.0
PRODID:-//www.gptn.org//NONSGML kigkonsult.se iCalcreator 2.30.10//
CALSCALE:GREGORIAN
METHOD:PUBLISH
UID:93b6e3c6-a260-40a9-ad2c-9908b5ced23f
X-WR-CALDESC:
X-WR-RELCALID:2f21332fcdc9e8df390003ba9928ff00
X-WR-TIMEZONE:America/Chicago
BEGIN:VTIMEZONE
TZID:America/Chicago
BEGIN:STANDARD
TZNAME:CST
DTSTART:20211107T020000
TZOFFSETFROM:-0500
TZOFFSETTO:-0600
RDATE:20221106T020000
RDATE:20231105T020000
END:STANDARD
BEGIN:DAYLIGHT
TZNAME:CDT
DTSTART:20220313T020000
TZOFFSETFROM:-0600
TZOFFSETTO:-0500
RDATE:20230312T020000
END:DAYLIGHT
END:VTIMEZONE
BEGIN:VEVENT
UID:fb775ba0-4e02-4b09-90aa-2c8707f8c3ea
DTSTAMP:20260420T144531Z
DESCRIPTION:
DTSTART;TZID=America/Chicago:20220519T000000
DTEND;TZID=America/Chicago:20220519T235900
LOCATION:https://www.gptn.org/news_publications/tour-de-lincoln.html
SUMMARY:Tour de Lincoln
END:VEVENT
END:VCALENDAR
