BEGIN:VCALENDAR
VERSION:2.0
PRODID:-//www.gptn.org//NONSGML kigkonsult.se iCalcreator 2.30.10//
CALSCALE:GREGORIAN
METHOD:PUBLISH
UID:1e41bc79-489e-4071-9192-4e18442485e8
X-WR-CALDESC:Come join us for our 20th year! Trail Trek is a popular commun
 ity fundraising event that encourages families to explore Lincoln’s 134-mi
 le trails system. A variety of routes and distances appeal to both novice 
 and experienced riders. Each participant receives lunch\, t-shirt and a lo
 goed promotional item.\n\nHelmets are required and registrations are non-r
 efundable (unless the event is cancelled due to COVID-19 Health Directives
 ). Registrations are accepted through the mail. Click on Welcome to Trail 
 Trek to print off a paper registration.
X-WR-RELCALID:c3e54aae43b17b81ec7114709ccd9647
X-WR-TIMEZONE:America/Chicago
BEGIN:VTIMEZONE
TZID:America/Chicago
BEGIN:STANDARD
TZNAME:CST
DTSTART:20211107T020000
TZOFFSETFROM:-0500
TZOFFSETTO:-0600
RDATE:20221106T020000
RDATE:20231105T020000
END:STANDARD
BEGIN:DAYLIGHT
TZNAME:CDT
DTSTART:20220313T020000
TZOFFSETFROM:-0600
TZOFFSETTO:-0500
RDATE:20230312T020000
END:DAYLIGHT
END:VTIMEZONE
BEGIN:VEVENT
UID:4543e816-3b06-41e0-8608-237207031ff9
DTSTAMP:20260420T132018Z
DESCRIPTION:Come join us for our 20th year! Trail Trek is a popular communi
 ty fundraising event that encourages families to explore Lincoln’s 134-mil
 e trails system. A variety of routes and distances appeal to both novice a
 nd experienced riders. Each participant receives lunch\, t-shirt and a log
 oed promotional item.\n\nHelmets are required and registrations are non-re
 fundable (unless the event is cancelled due to COVID-19 Health Directives)
 . Registrations are accepted through the mail. Click on Welcome to Trail T
 rek to print off a paper registration.
DTSTART;TZID=America/Chicago:20220626T070000
DTEND;TZID=America/Chicago:20220626T130000
LOCATION:
SUMMARY:Trail Trek 2022
END:VEVENT
END:VCALENDAR
