BEGIN:VCALENDAR
VERSION:2.0
PRODID:-//www.gptn.org//NONSGML kigkonsult.se iCalcreator 2.30.10//
CALSCALE:GREGORIAN
METHOD:PUBLISH
UID:a9899aaf-b9ab-4cca-9059-457de044e703
X-WR-CALDESC:Lincoln Trail-A-Thon is back for 2022. This event was designed
  to keep Lincoln moving and healthy while enjoying the trails. As a bonus 
 a large portion of the entry fee for this event will go to the Great Plain
 s Trails Network to help build the trails in Lincoln. \n\nLincoln Trail-A-
 Thon is a year-long challenge to encourage participants to ride\, run\, jo
 g or walk all 78 miles of trails within the city limits of Lincoln. To hel
 p with your progress we have developed monthly suggestions to cover the tr
 ails. See link below.\n\nAs you complete each monthly trail route\, you wi
 ll receive a locally designed magnet representing each completed route mar
 king the accomplishment. To communicate your completion of the monthly rou
 te you'll need to complete a Google Collection Form\, which will be provid
 e to each person that enters (Magnets will be distributed at the Lincoln R
 unning Company). Once you register you will also receive the clues for the
  trail scavenger hunt.\n\nThank you to our sponsors: Lincoln Running Compa
 ny\, Trinity Chiropractic\, Nebraska Chiropractic Physicians Association\,
  the Great Plains Trails Network\, Capital Dental and the University of Ne
 braska Federal Credit Union.
X-WR-RELCALID:98340a3658bd5da2a128fedf49e68714
X-WR-TIMEZONE:America/Chicago
BEGIN:VTIMEZONE
TZID:America/Chicago
BEGIN:STANDARD
TZNAME:CST
DTSTART:20221106T020000
TZOFFSETFROM:-0500
TZOFFSETTO:-0600
RDATE:20231105T020000
END:STANDARD
BEGIN:DAYLIGHT
TZNAME:CDT
DTSTART:20220313T020000
TZOFFSETFROM:-0600
TZOFFSETTO:-0500
RDATE:20230312T020000
RDATE:20240310T020000
END:DAYLIGHT
END:VTIMEZONE
BEGIN:VEVENT
UID:3b7fe00e-a6ad-4839-b381-cbb613eba40b
DTSTAMP:20260420T035801Z
DESCRIPTION:Lincoln Trail-A-Thon is back for 2022. This event was designed 
 to keep Lincoln moving and healthy while enjoying the trails. As a bonus a
  large portion of the entry fee for this event will go to the Great Plains
  Trails Network to help build the trails in Lincoln. \n\nLincoln Trail-A-T
 hon is a year-long challenge to encourage participants to ride\, run\, jog
  or walk all 78 miles of trails within the city limits of Lincoln. To help
  with your progress we have developed monthly suggestions to cover the tra
 ils. See link below.\n\nAs you complete each monthly trail route\, you wil
 l receive a locally designed magnet representing each completed route mark
 ing the accomplishment. To communicate your completion of the monthly rout
 e you'll need to complete a Google Collection Form\, which will be provide
  to each person that enters (Magnets will be distributed at the Lincoln Ru
 nning Company). Once you register you will also receive the clues for the 
 trail scavenger hunt.\n\nThank you to our sponsors: Lincoln Running Compan
 y\, Trinity Chiropractic\, Nebraska Chiropractic Physicians Association\, 
 the Great Plains Trails Network\, Capital Dental and the University of Neb
 raska Federal Credit Union.
DTSTART;TZID=America/Chicago:20221231T000000
DTEND;TZID=America/Chicago:20221231T235900
LOCATION:
SUMMARY:Lincoln Trail-A-Thon 2022
END:VEVENT
END:VCALENDAR
