BEGIN:VCALENDAR
VERSION:2.0
PRODID:-//www.gptn.org//NONSGML kigkonsult.se iCalcreator 2.30.10//
CALSCALE:GREGORIAN
METHOD:PUBLISH
UID:642c17ec-6df4-47f9-89cf-8ba2e5e8b294
X-WR-CALDESC:
X-WR-RELCALID:e53796aa93285157a467a782026c8b74
X-WR-TIMEZONE:America/Chicago
BEGIN:VTIMEZONE
TZID:America/Chicago
BEGIN:STANDARD
TZNAME:CST
DTSTART:20221106T020000
TZOFFSETFROM:-0500
TZOFFSETTO:-0600
RDATE:20231105T020000
END:STANDARD
BEGIN:DAYLIGHT
TZNAME:CDT
DTSTART:20220313T020000
TZOFFSETFROM:-0600
TZOFFSETTO:-0500
RDATE:20230312T020000
RDATE:20240310T020000
END:DAYLIGHT
END:VTIMEZONE
BEGIN:VEVENT
UID:5704f9a3-f01f-4942-b1c9-1c25f6ef43d3
DTSTAMP:20260420T002953Z
DESCRIPTION:
DTSTART;TZID=America/Chicago:20230218T130000
DTEND;TZID=America/Chicago:20230218T150000
LOCATION:
SUMMARY:GPTN 34th Annual Meeting
END:VEVENT
END:VCALENDAR
