BEGIN:VCALENDAR
VERSION:2.0
PRODID:-//www.gptn.org//NONSGML kigkonsult.se iCalcreator 2.30.10//
CALSCALE:GREGORIAN
METHOD:PUBLISH
UID:f85d874e-13f0-4a3b-bcdb-98d17587b043
X-WR-CALDESC:Come join us for our 21st year! Trail Trek is a popular commun
 ity fundraising event that encourages families to explore Lincoln’s 134-mi
 le trails system. A variety of routes and distances appeal to both novice 
 and experienced riders. Each participant receives on route snacks\, lunch 
 and a t-shirt.\n\nHelmets are required and registrations are non-refundabl
 e . Registrations are accepted through the mail. Click on Welcome to Trail
  Trek to print off a paper registration.
X-WR-RELCALID:303061e7e24509c16dd094999f10f620
X-WR-TIMEZONE:America/Chicago
BEGIN:VTIMEZONE
TZID:America/Chicago
BEGIN:STANDARD
TZNAME:CST
DTSTART:20221106T020000
TZOFFSETFROM:-0500
TZOFFSETTO:-0600
RDATE:20231105T020000
RDATE:20241103T020000
END:STANDARD
BEGIN:DAYLIGHT
TZNAME:CDT
DTSTART:20230312T020000
TZOFFSETFROM:-0600
TZOFFSETTO:-0500
RDATE:20240310T020000
END:DAYLIGHT
END:VTIMEZONE
BEGIN:VEVENT
UID:646c028f-0a76-4de8-90e8-3353993c8a7e
DTSTAMP:20260420T070755Z
DESCRIPTION:Come join us for our 21st year! Trail Trek is a popular communi
 ty fundraising event that encourages families to explore Lincoln’s 134-mil
 e trails system. A variety of routes and distances appeal to both novice a
 nd experienced riders. Each participant receives on route snacks\, lunch a
 nd a t-shirt.\n\nHelmets are required and registrations are non-refundable
  . Registrations are accepted through the mail. Click on Welcome to Trail 
 Trek to print off a paper registration.
DTSTART;TZID=America/Chicago:20230625T000000
DTEND;TZID=America/Chicago:20230625T235900
LOCATION:
SUMMARY:Trail Trek 2023
END:VEVENT
END:VCALENDAR
