BEGIN:VCALENDAR
VERSION:2.0
PRODID:-//www.gptn.org//NONSGML kigkonsult.se iCalcreator 2.30.10//
CALSCALE:GREGORIAN
METHOD:PUBLISH
UID:956707e1-c2fe-4d57-9618-296ce9d2e8bb
X-WR-CALDESC:Trail Trek is a popular community fundraising event that encou
 rages families to explore Lincoln’s 183-mile trails system. A variety of r
 outes and distances appeal to both novice and experienced riders. Each par
 ticipant receives lunch\, snacks on the trail and a t-shirt. Now in its 23
 rd year\, Trail Trek has contributed over $400\,000 to building trails in 
 and around Lincoln. Our online registration is now open.
X-WR-RELCALID:ceb93f61c8e1887cd3222e1030f80f7a
X-WR-TIMEZONE:America/Chicago
BEGIN:VTIMEZONE
TZID:America/Chicago
BEGIN:STANDARD
TZNAME:CST
DTSTART:20241103T020000
TZOFFSETFROM:-0500
TZOFFSETTO:-0600
RDATE:20251102T020000
RDATE:20261101T020000
END:STANDARD
BEGIN:DAYLIGHT
TZNAME:CDT
DTSTART:20250309T020000
TZOFFSETFROM:-0600
TZOFFSETTO:-0500
RDATE:20260308T020000
END:DAYLIGHT
END:VTIMEZONE
BEGIN:VEVENT
UID:6fb425ac-06c8-459b-8d49-931d1788f2ea
DTSTAMP:20260423T101040Z
DESCRIPTION:Trail Trek is a popular community fundraising event that encour
 ages families to explore Lincoln’s 183-mile trails system. A variety of ro
 utes and distances appeal to both novice and experienced riders. Each part
 icipant receives lunch\, snacks on the trail and a t-shirt. Now in its 23r
 d year\, Trail Trek has contributed over $400\,000 to building trails in a
 nd around Lincoln. Our online registration is now open.
DTSTART;TZID=America/Chicago:20250622T060000
DTEND;TZID=America/Chicago:20250622T153000
LOCATION:PO BOX 82902\, Lincoln\, NE 68510 US
SUMMARY:Trail Trek 2025
END:VEVENT
END:VCALENDAR
